BEGIN:VCALENDAR
VERSION:2.0
PRODID:-//Hedwig-Schule Lippstadt - ECPv6.15.20//NONSGML v1.0//EN
CALSCALE:GREGORIAN
METHOD:PUBLISH
X-WR-CALNAME:Hedwig-Schule Lippstadt
X-ORIGINAL-URL:https://hedwig-schule-lippstadt.de
X-WR-CALDESC:Veranstaltungen für Hedwig-Schule Lippstadt
REFRESH-INTERVAL;VALUE=DURATION:PT1H
X-Robots-Tag:noindex
X-PUBLISHED-TTL:PT1H
BEGIN:VTIMEZONE
TZID:UTC
BEGIN:STANDARD
TZOFFSETFROM:+0000
TZOFFSETTO:+0000
TZNAME:UTC
DTSTART:20220101T000000
END:STANDARD
END:VTIMEZONE
BEGIN:VTIMEZONE
TZID:Europe/Berlin
BEGIN:DAYLIGHT
TZOFFSETFROM:+0100
TZOFFSETTO:+0200
TZNAME:CEST
DTSTART:20220327T010000
END:DAYLIGHT
BEGIN:STANDARD
TZOFFSETFROM:+0200
TZOFFSETTO:+0100
TZNAME:CET
DTSTART:20221030T010000
END:STANDARD
BEGIN:DAYLIGHT
TZOFFSETFROM:+0100
TZOFFSETTO:+0200
TZNAME:CEST
DTSTART:20230326T010000
END:DAYLIGHT
BEGIN:STANDARD
TZOFFSETFROM:+0200
TZOFFSETTO:+0100
TZNAME:CET
DTSTART:20231029T010000
END:STANDARD
BEGIN:DAYLIGHT
TZOFFSETFROM:+0100
TZOFFSETTO:+0200
TZNAME:CEST
DTSTART:20240331T010000
END:DAYLIGHT
BEGIN:STANDARD
TZOFFSETFROM:+0200
TZOFFSETTO:+0100
TZNAME:CET
DTSTART:20241027T010000
END:STANDARD
END:VTIMEZONE
BEGIN:VEVENT
DTSTART;VALUE=DATE:20230417
DTEND;VALUE=DATE:20230506
DTSTAMP:20260421T120031
CREATED:20220805T065632Z
LAST-MODIFIED:20220805T065632Z
UID:369-1681689600-1683331199@hedwig-schule-lippstadt.de
SUMMARY:Betriebspraktikum Kl. 8
DESCRIPTION:
URL:https://hedwig-schule-lippstadt.de/event/betriebspraktikum-kl-8/
END:VEVENT
BEGIN:VEVENT
DTSTART;VALUE=DATE:20230501
DTEND;VALUE=DATE:20230502
DTSTAMP:20260421T120031
CREATED:20220805T084031Z
LAST-MODIFIED:20220805T084031Z
UID:466-1682899200-1682985599@hedwig-schule-lippstadt.de
SUMMARY:Schulfrei\, Tag der Arbeit
DESCRIPTION:
URL:https://hedwig-schule-lippstadt.de/event/schulfrei-tag-der-arbeit/
END:VEVENT
BEGIN:VEVENT
DTSTART;VALUE=DATE:20230518
DTEND;VALUE=DATE:20230519
DTSTAMP:20260421T120031
CREATED:20220805T065908Z
LAST-MODIFIED:20220805T070902Z
UID:375-1684368000-1684454399@hedwig-schule-lippstadt.de
SUMMARY:Schulfrei\, Christi Himmelfahrt
DESCRIPTION:
URL:https://hedwig-schule-lippstadt.de/event/christi-himmelfahrt/
END:VEVENT
BEGIN:VEVENT
DTSTART;VALUE=DATE:20230519
DTEND;VALUE=DATE:20230520
DTSTAMP:20260421T120031
CREATED:20220805T065833Z
LAST-MODIFIED:20220805T065833Z
UID:373-1684454400-1684540799@hedwig-schule-lippstadt.de
SUMMARY:Schulfrei\, beweglicher Ferientag
DESCRIPTION:
URL:https://hedwig-schule-lippstadt.de/event/schulfrei-beweglicher-ferientag-2/
END:VEVENT
BEGIN:VEVENT
DTSTART;VALUE=DATE:20230523
DTEND;VALUE=DATE:20230524
DTSTAMP:20260421T120031
CREATED:20230130T140505Z
LAST-MODIFIED:20230130T140505Z
UID:1007-1684800000-1684886399@hedwig-schule-lippstadt.de
SUMMARY:Schulfrei\, ganztägige Lehrerfortbildung
DESCRIPTION:
URL:https://hedwig-schule-lippstadt.de/event/schulfrei-ganztaegige-lehrerfortbildung/
END:VEVENT
BEGIN:VEVENT
DTSTART;VALUE=DATE:20230529
DTEND;VALUE=DATE:20230530
DTSTAMP:20260421T120031
CREATED:20220805T070625Z
LAST-MODIFIED:20220805T070814Z
UID:387-1685318400-1685404799@hedwig-schule-lippstadt.de
SUMMARY:Schulfrei\, Pfingstmontag
DESCRIPTION:
URL:https://hedwig-schule-lippstadt.de/event/pfingstmontag/
END:VEVENT
BEGIN:VEVENT
DTSTART;VALUE=DATE:20230530
DTEND;VALUE=DATE:20230531
DTSTAMP:20260421T120031
CREATED:20220805T070559Z
LAST-MODIFIED:20220805T070838Z
UID:385-1685404800-1685491199@hedwig-schule-lippstadt.de
SUMMARY:Schulfrei\, Pfingstferien
DESCRIPTION:
URL:https://hedwig-schule-lippstadt.de/event/pfingstferien/
END:VEVENT
END:VCALENDAR