BEGIN:VCALENDAR
VERSION:2.0
PRODID:-//Hedwig-Schule Lippstadt - ECPv6.15.20//NONSGML v1.0//EN
CALSCALE:GREGORIAN
METHOD:PUBLISH
X-ORIGINAL-URL:https://hedwig-schule-lippstadt.de
X-WR-CALDESC:Veranstaltungen für Hedwig-Schule Lippstadt
REFRESH-INTERVAL;VALUE=DURATION:PT1H
X-Robots-Tag:noindex
X-PUBLISHED-TTL:PT1H
BEGIN:VTIMEZONE
TZID:UTC
BEGIN:STANDARD
TZOFFSETFROM:+0000
TZOFFSETTO:+0000
TZNAME:UTC
DTSTART:20220101T000000
END:STANDARD
END:VTIMEZONE
BEGIN:VEVENT
DTSTART;VALUE=DATE:20230622
DTEND;VALUE=DATE:20230807
DTSTAMP:20260421T155849
CREATED:20220805T070447Z
LAST-MODIFIED:20220805T070447Z
UID:383-1687392000-1691366399@hedwig-schule-lippstadt.de
SUMMARY:Sommerferien
DESCRIPTION:
URL:https://hedwig-schule-lippstadt.de/event/sommerferien-2/
END:VEVENT
END:VCALENDAR