BEGIN:VCALENDAR
VERSION:2.0
PRODID:-//Hedwig-Schule Lippstadt - ECPv6.15.20//NONSGML v1.0//EN
CALSCALE:GREGORIAN
METHOD:PUBLISH
X-ORIGINAL-URL:https://hedwig-schule-lippstadt.de
X-WR-CALDESC:Veranstaltungen für Hedwig-Schule Lippstadt
REFRESH-INTERVAL;VALUE=DURATION:PT1H
X-Robots-Tag:noindex
X-PUBLISHED-TTL:PT1H
BEGIN:VTIMEZONE
TZID:UTC
BEGIN:STANDARD
TZOFFSETFROM:+0000
TZOFFSETTO:+0000
TZNAME:UTC
DTSTART:20220101T000000
END:STANDARD
END:VTIMEZONE
BEGIN:VEVENT
DTSTART;VALUE=DATE:20230621
DTEND;VALUE=DATE:20230622
DTSTAMP:20260421T143630
CREATED:20220805T065232Z
LAST-MODIFIED:20221021T065318Z
UID:360-1687305600-1687391999@hedwig-schule-lippstadt.de
SUMMARY:Zeugnisausgabe 2. Hj.
DESCRIPTION:Schulschluss um 11.00 Uhr
URL:https://hedwig-schule-lippstadt.de/event/zeugnisausgabe-2-hj/
END:VEVENT
END:VCALENDAR