BEGIN:VCALENDAR
VERSION:2.0
PRODID:-//Hedwig-Schule Lippstadt - ECPv6.15.20//NONSGML v1.0//EN
CALSCALE:GREGORIAN
METHOD:PUBLISH
X-WR-CALNAME:Hedwig-Schule Lippstadt
X-ORIGINAL-URL:https://hedwig-schule-lippstadt.de
X-WR-CALDESC:Veranstaltungen für Hedwig-Schule Lippstadt
REFRESH-INTERVAL;VALUE=DURATION:PT1H
X-Robots-Tag:noindex
X-PUBLISHED-TTL:PT1H
BEGIN:VTIMEZONE
TZID:UTC
BEGIN:STANDARD
TZOFFSETFROM:+0000
TZOFFSETTO:+0000
TZNAME:UTC
DTSTART:20210101T000000
END:STANDARD
END:VTIMEZONE
BEGIN:VEVENT
DTSTART;TZID=UTC:20221102T120000
DTEND;TZID=UTC:20221102T180000
DTSTAMP:20260423T144502
CREATED:20220805T064944Z
LAST-MODIFIED:20220805T065257Z
UID:356-1667390400-1667412000@hedwig-schule-lippstadt.de
SUMMARY:Elternsprechtag 1. Hj.
DESCRIPTION:Unterrichtsschluss um 11.45 Uhr
URL:https://hedwig-schule-lippstadt.de/event/elternsprechtag/
END:VEVENT
END:VCALENDAR