BEGIN:VCALENDAR
VERSION:2.0
PRODID:-//Hedwig-Schule Lippstadt - ECPv6.15.20//NONSGML v1.0//EN
CALSCALE:GREGORIAN
METHOD:PUBLISH
X-ORIGINAL-URL:https://hedwig-schule-lippstadt.de
X-WR-CALDESC:Veranstaltungen für Hedwig-Schule Lippstadt
REFRESH-INTERVAL;VALUE=DURATION:PT1H
X-Robots-Tag:noindex
X-PUBLISHED-TTL:PT1H
BEGIN:VTIMEZONE
TZID:UTC
BEGIN:STANDARD
TZOFFSETFROM:+0000
TZOFFSETTO:+0000
TZNAME:UTC
DTSTART:20210101T000000
END:STANDARD
END:VTIMEZONE
BEGIN:VEVENT
DTSTART;TZID=UTC:20220810T081500
DTEND;TZID=UTC:20220810T133000
DTSTAMP:20260423T193016
CREATED:20220805T064118Z
LAST-MODIFIED:20220805T064118Z
UID:348-1660119300-1660138200@hedwig-schule-lippstadt.de
SUMMARY:1. Schultag
DESCRIPTION:
URL:https://hedwig-schule-lippstadt.de/event/1-schultag/
END:VEVENT
END:VCALENDAR